BEGIN:VCALENDAR
VERSION:2.0
PRODID:-//Association for Women in Insurance (Qld) Inc - ECPv6.15.18//NONSGML v1.0//EN
CALSCALE:GREGORIAN
METHOD:PUBLISH
X-WR-CALNAME:Association for Women in Insurance (Qld) Inc
X-ORIGINAL-URL:https://womenininsurance.com.au
X-WR-CALDESC:Events for Association for Women in Insurance (Qld) Inc
REFRESH-INTERVAL;VALUE=DURATION:PT1H
X-Robots-Tag:noindex
X-PUBLISHED-TTL:PT1H
BEGIN:VTIMEZONE
TZID:Australia/Brisbane
BEGIN:STANDARD
TZOFFSETFROM:+1000
TZOFFSETTO:+1000
TZNAME:AEST
DTSTART:20240101T000000
END:STANDARD
END:VTIMEZONE
BEGIN:VEVENT
DTSTART;TZID=Australia/Brisbane:20251212T123000
DTEND;TZID=Australia/Brisbane:20251212T173000
DTSTAMP:20260426T072723
CREATED:20250604T012140Z
LAST-MODIFIED:20251030T021054Z
UID:581-1765542600-1765560600@womenininsurance.com.au
SUMMARY:Christmas Luncheon
DESCRIPTION:Get ready for the most unforgettable end-of-year celebration yet – the Women in Insurance (Qld) Christmas Luncheon is back\, and this year we’re turning up the volume with a Coachella Christmas! \nThink festival vibes\, summer sparkle\, and a whole lot of holiday cheer. \nTickets on sale from 10am on Monday 10 November 2025! \nThank you to our valued sponsors and Christmas event sponsor\, Ethos Building & Restoration\, who make these events possible.  \nEvent details: \nDate: Friday 12 December 2025 \nTime: 12.30pm to 5.30pm  \nVenue: Brisbane City Hall\, main auditorium  \nTickets: $220 for members\, $250 for non-members (plus GST) \nDress Code: Dress to Impress – With Finesse (please ensure outfits are neat and respectful)  \nAllocated seating in tables of 10 (maximum of two tables per company!)  \n5 hours of entertainment\, 3 course sit down lunch\, 5 hour drinks package \nCharity Raffle  \nOur charity raffle will be raising money for: \n\nCare Kits for Kids Qld – who provide thousands of Care Kits (new backpacks filled with new clothing\, toiletries\, activities\, stationery\, books\, toys and quilts) for children in care or crisis throughout Queensland each year.\nBroken to Brilliant – who help mentor survivors to re-establish successful lives after they have safely left the abusive relationship and are out of crisis.\n\nThe raffle will be online and QR codes can be scanned at the venue to purchase tickets. Please note Apple Pay is not available\, so please bring your debit/credit cards. \nWebsite Tips & Tricks\nWe are aware of the overwhelming demand for this event\, which in previous years has led to our website crashing due to the load. Some tips and tricks should website issues occur: \n\nIf you don’t have attendee names\, put ‘Guest1\, Guest2’. \nThe website may not allow the same email address to be used for all attendees. It will accept made up emails (i.e. guest1@domain.com)\nYou need to be logged into a membership account to purchase a member ticket. Current/active membership is required to purchase a member ticket. The email address also needs to match the member’s email address contained on their membership account and their membership needs to be current.  \nOur social media account will provide live updates should we have technical issues.  \nWe can be contacted at info@womenininsurance.com.au.\n\nOur valued sponsors have been given the opportunity to pre-purchase a limited number of tickets which will also assist in reducing website traffic.  \nPlease note: Members are entitled to one member ticket per event. Your membership number is required when purchasing a member ticket. We recommend that you check your membership is current and up to date to ensure you are able to secure your member’s ticket. \nPlease see our website for terms & conditions.
URL:https://womenininsurance.com.au/events/christmas-luncheon/
LOCATION:Brisbane City Hall\, 64 Adelaide St\, Brisbane\, QLD\, 4000\, Australia
ORGANIZER;CN="Women in Insurance":MAILTO:info@womenininsurance.com.au
END:VEVENT
BEGIN:VEVENT
DTSTART;TZID=Australia/Brisbane:20260320T150000
DTEND;TZID=Australia/Brisbane:20260320T180000
DTSTAMP:20260426T072723
CREATED:20260211T032212Z
LAST-MODIFIED:20260312T013941Z
UID:4005-1774018800-1774029600@womenininsurance.com.au
SUMMARY:International Women's Day 2026
DESCRIPTION:Tickets to International Women’s Day\, and first event of 2026\, will be on sale from 10am on Friday\, 20 February 2026. \nThe theme for International Women’s Day 2026 is ‘Balance the Scales’\, highlighting the need to ensure fair\, inclusive and accessible justice for every woman and girl.\nWe are incredibly honoured to be joined by Bri Lee\, in conversation\, an award-winning author\, academic and activist. \nIn her debut memoir\, Eggshell Skull\, Lee\, drawing from her experience as a judges associate in the District Court of Queensland and her own experiences with abuse shone a light of the injustices experienced by survivors of sexual assault within the Australian legal system.\nSince then Lee\, has worked in activism co-founding the fREADom Inside Project which donates books to women who are incarcerated in NSW. \nTickets are $110 for members and $125 for non-members (plus GST). \nGet in quick to avoid missing out! \nEvent Details \nDate:          20 March 2026 \nTime:          3pm to 6pm \nLocation:     The Grove Rooftop \nTicket prices: \n\nMember:  $110\nNon-Member: $125\n\nEvent format:          In-Conversation\, Drinks and canapes \nRSVP date:             9 March 2026 \nBri Lee appears by arrangement with Saxton Speakers Bureau: \nBook Bri Lee for your next event | Saxton Speakers
URL:https://womenininsurance.com.au/events/international-womens-day-2026/
LOCATION:The Grove\, 480 Queen Street\, Brisbane\, Queensland\, 4000\, Australia
ORGANIZER;CN="Women in Insurance":MAILTO:info@womenininsurance.com.au
END:VEVENT
BEGIN:VEVENT
DTSTART;TZID=Australia/Brisbane:20260331T120000
DTEND;TZID=Australia/Brisbane:20260331T133000
DTSTAMP:20260426T072723
CREATED:20260304T005408Z
LAST-MODIFIED:20260304T005408Z
UID:4170-1774958400-1774963800@womenininsurance.com.au
SUMMARY:Ethics Trivia
DESCRIPTION:Back by popular demand\, Chris Doyle and Kristi Riedel from Level Twenty Seven Chambers will be presenting their ethics CLE on 31 March 2026. \nGrab your team\, check the recent case law and read the latest news headlines to prepare for a battle of ethical wits with our Ethics Trivia Quiz. \nAttendance is free\, and lunch is provided. It is\, however\, necessary to register. \nSign up to secure your spot\, and your ethics CPD point\, without delay as places are limited. You won’t want to miss out!  \n  \nDate: 31 March 2026 \nTime: 12pm for 12:15pm start \nLocation: Level Twenty Seven Chambers\, level 27\, 239 George Street Brisbane  \nRSVP by: 27 March 2026
URL:https://womenininsurance.com.au/events/ethics-trivia/
LOCATION:Level 27\, 239 George Street\, Brisbane\, Level 27\, 239 George Street\, Brisbane\, QLD\, 4000\, Australia
ORGANIZER;CN="Women in Insurance":MAILTO:info@womenininsurance.com.au
END:VEVENT
BEGIN:VEVENT
DTSTART;TZID=Australia/Brisbane:20260521T163000
DTEND;TZID=Australia/Brisbane:20260521T190000
DTSTAMP:20260426T072723
CREATED:20260402T022319Z
LAST-MODIFIED:20260409T230939Z
UID:4276-1779381000-1779390000@womenininsurance.com.au
SUMMARY:Members’ Mix & Mingle
DESCRIPTION:🌟 You’re invited to our: Members’ Mix & Mingle 🌟 \nReady for an afternoon of fun\, connection\, and a little friendly competition? \nWhether you’re looking to expand your network\, reconnect with familiar faces\, or just enjoy a relaxed afternoon with industry peers — this is the event for you! \n✨ Members attend FREE (please register your attendance by purchasing a free ticket)\n✨ Non-members: $90 plus GST (includes a FREE annual membership valued at $110!) \n  \n📅 Thursday 21 May 2026\n⏰ From 4:30pm\n📍 The Boo\, 126 Breakfast Creek Rd\, Newstead\n🎯 Bowls\, burgers & (networking) bingo \n  \nSpots are limited — don’t miss out! Grab your ticket and bring your A-game 🎳🍔
URL:https://womenininsurance.com.au/events/members-mix-mingle/
LOCATION:The Boo\, 126 Breakfast Creek Rd\, Newstead QLD 4006\, 126 Breakfast Creek Road\, Newstead\, Qld\, 4006\, Australia
ORGANIZER;CN="Women in Insurance":MAILTO:info@womenininsurance.com.au
END:VEVENT
END:VCALENDAR