BEGIN:VCALENDAR
VERSION:2.0
PRODID:-//Association for Women in Insurance (Qld) Inc - ECPv6.15.18//NONSGML v1.0//EN
CALSCALE:GREGORIAN
METHOD:PUBLISH
X-WR-CALNAME:Association for Women in Insurance (Qld) Inc
X-ORIGINAL-URL:https://womenininsurance.com.au
X-WR-CALDESC:Events for Association for Women in Insurance (Qld) Inc
REFRESH-INTERVAL;VALUE=DURATION:PT1H
X-Robots-Tag:noindex
X-PUBLISHED-TTL:PT1H
BEGIN:VTIMEZONE
TZID:Australia/Brisbane
BEGIN:STANDARD
TZOFFSETFROM:+1000
TZOFFSETTO:+1000
TZNAME:AEST
DTSTART:20240101T000000
END:STANDARD
END:VTIMEZONE
BEGIN:VEVENT
DTSTART;TZID=Australia/Brisbane:20250819T070000
DTEND;TZID=Australia/Brisbane:20250819T090000
DTSTAMP:20260426T140546
CREATED:20250620T000704Z
LAST-MODIFIED:20250708T004824Z
UID:2267-1755586800-1755594000@womenininsurance.com.au
SUMMARY:Women in Leadership Breakfast
DESCRIPTION:Join us for an inspired morning of conversation against the backdrop of the Brisbane River. \nNetwork with colleagues\, and make new connections\, over breakfast in the Long Room at Customs House while hearing insights about leadership\, personal growth and forging new pathways from our stellar panel of trailblazers from the insurance and legal industries. \nFeaturing: \n\nKimberly Daley\, Executive General Manager\, Professional Services\, Sedgwick.\nAntonia Mercorella\, Chief Executive Officer\, REIQ and Chair\, Carter Newell.\nJustice Soraya Ryan\, Queensland Supreme Court.\nDenica Saunders\, Regional Head of Operations Travel APAC and Chief Operating Officer Australia\, Allianz Partners.\n\n\n\n\nDate:\n19 August 2025\, 7am – 9am.\n\n\nVenue:\nLong Room\, Customs House\, 399 Queen Street\, Brisbane\n\n\nTickets:\nEarly bird (until 15 July 2025):\nRegular access:\n(prices are + GST)\nMember $59\nMember $69\nNon member $64\nNon member $74\n\n\nRSVP\n12 August 2025
URL:https://womenininsurance.com.au/events/women-in-leadership-breakfast/
LOCATION:Customs House\, 399 Queens Street\, Brisbane\, QLD\, 4000\, Australia
ORGANIZER;CN="Women in Insurance":MAILTO:info@womenininsurance.com.au
END:VEVENT
BEGIN:VEVENT
DTSTART;TZID=Australia/Brisbane:20250731T173000
DTEND;TZID=Australia/Brisbane:20250731T200000
DTSTAMP:20260426T140546
CREATED:20250617T061700Z
LAST-MODIFIED:20250623T043411Z
UID:2220-1753983000-1753992000@womenininsurance.com.au
SUMMARY:End of Financial Year Celebration
DESCRIPTION:You’re Invited to a Night of Celebration & Surprise \nJoin Women in Insurance as we farewell the financial year in true style at Pawn & Co\, Brisbane’s most curious cocktail bar – where vintage flair meets a world of wonder. \nExpect three unforgettable hours of: \n\nFlowing drinks \nRoving canapés \nConnection\, celebration & a little bit of magic \n\nTickets go on sale Tuesday 24th June at 10am\nWith only 200 tickets available\, we expect this event to sell quickly – mark your calendar and set your alarm! \nEvent proudly sponsored by ShieldCover\nA huge thank you to our sponsor for helping bring this incredible event to life. \nWe can’t wait to celebrate with you! \nKey Event Details: \n\n\n\nDate:\nThursday 31 July 2025\n\n\nTime:\n5.30pm\n\n\nLocation:\nPawn & Co\, 680 Ann Street\, Fortitude Valley\n\n\nCost:\n$90 for members\, $110 for non-members (plus GST on all tickets)\n\n\n\n\n	\n								\n		\n\n			\n	\n			WII Proudly Supported by Platinum sponsors	\n\n	\n			\n				\n			\n\n																						\n				\n																							\n																																																	\n																									\n\n				\n			\n\n																						\n				\n																							\n																																																	\n																									\n\n			\n		\n\n\n\n	\n		\n	\n\n\n\n	\n								\n		\n\n			\n	\n			WII Proudly Supported by Gold sponsors
URL:https://womenininsurance.com.au/events/youre-invited-to-a-night-of-celebration-surprise/
LOCATION:Pawn & Co\, 680 Ann Street\, Fortitude Valley\, QLD\, 4006\, Australia
ORGANIZER;CN="Women in Insurance":MAILTO:info@womenininsurance.com.au
END:VEVENT
END:VCALENDAR